BEGIN:VCALENDAR
VERSION:2.0
PRODID:spatie/icalendar-generator
DESCRIPTION:Events from MarshCreekBICChurch.com
X-WR-CALDESC:Events from MarshCreekBICChurch.com
REFRESH-INTERVAL;VALUE=DURATION:PT1440M
X-PUBLISHED-TTL:PT1440M
BEGIN:VTIMEZONE
TZID:America/New_York
BEGIN:STANDARD
DTSTART:20251102T020000Z
TZOFFSETFROM:-0400
TZOFFSETTO:-0500
END:STANDARD
BEGIN:DAYLIGHT
DTSTART:20260308T020000Z
TZOFFSETFROM:-0500
TZOFFSETTO:-0400
END:DAYLIGHT
END:VTIMEZONE
BEGIN:VTIMEZONE
TZID:UTC
BEGIN:STANDARD
DTSTART:20250723T180115Z
TZOFFSETFROM:+0000
TZOFFSETTO:+0000
END:STANDARD
END:VTIMEZONE
BEGIN:VEVENT
UID:118-102
DTSTAMP:20260419T180115Z
SUMMARY:March 17\, 2026 - Tuesday - 7 PM - Men's Bible study at the Carter'
 s
LOCATION:Carter\\'s 2099 Summit Hill Road\, Howard
ORGANIZER;CN=admin:MAILTO:marshcreekbic@centurylink.net
DTSTART;TZID=America/New_York:20260317T190000
DTEND;TZID=America/New_York:20260317T203000
X-ALT-DESC;FMTTYPE=TEXT/HTML:
CATEGORIES:General
URL;VALUE=URI:https://www.marshcreekbicchurch.com/mc-events/march-17-2026-t
 uesday-7-pm-mens-bible-study-at-the-carters/
METHOD:PUBLISH
END:VEVENT
END:VCALENDAR