BEGIN:VCALENDAR
VERSION:2.0
PRODID:spatie/icalendar-generator
DESCRIPTION:Events from MarshCreekBICChurch.com
X-WR-CALDESC:Events from MarshCreekBICChurch.com
REFRESH-INTERVAL;VALUE=DURATION:PT1440M
X-PUBLISHED-TTL:PT1440M
BEGIN:VTIMEZONE
TZID:America/New_York
BEGIN:STANDARD
DTSTART:20251102T020000Z
TZOFFSETFROM:-0400
TZOFFSETTO:-0500
END:STANDARD
BEGIN:DAYLIGHT
DTSTART:20260308T020000Z
TZOFFSETFROM:-0500
TZOFFSETTO:-0400
END:DAYLIGHT
END:VTIMEZONE
BEGIN:VTIMEZONE
TZID:UTC
BEGIN:STANDARD
DTSTART:20250723T214922Z
TZOFFSETFROM:+0000
TZOFFSETTO:+0000
END:STANDARD
END:VTIMEZONE
BEGIN:VEVENT
UID:80-69
DTSTAMP:20260419T214922Z
SUMMARY:Monday - December 8\, 2025 - 6:15 PM - Ladies Christmas Party at Su
 nset West\, bring a $20 grab bag gift if wish to participate. Cost $22\, m
 oney due to Lois by Nov 30th.
LOCATION:Sunset West
ORGANIZER;CN=admin:MAILTO:marshcreekbic@centurylink.net
DTSTART;TZID=America/New_York:20251208T181500
DTEND;TZID=America/New_York:20251208T200000
X-ALT-DESC;FMTTYPE=TEXT/HTML:
CATEGORIES:General
URL;VALUE=URI:https://www.marshcreekbicchurch.com/mc-events/monday-december
 -8-2025-615-pm-ladies-christmas-party-at-sunset-west-bring-a-20-grab-bag-g
 ift-if-wish-to-participate-cost-22-money-due-to-lois-by-nov-30th/
METHOD:PUBLISH
END:VEVENT
END:VCALENDAR