BEGIN:VCALENDAR
VERSION:2.0
PRODID:spatie/icalendar-generator
DESCRIPTION:Events from MarshCreekBICChurch.com
X-WR-CALDESC:Events from MarshCreekBICChurch.com
REFRESH-INTERVAL;VALUE=DURATION:PT1440M
X-PUBLISHED-TTL:PT1440M
BEGIN:VTIMEZONE
TZID:America/New_York
BEGIN:DAYLIGHT
DTSTART:20250309T020000Z
TZOFFSETFROM:-0500
TZOFFSETTO:-0400
END:DAYLIGHT
BEGIN:STANDARD
DTSTART:20251102T020000Z
TZOFFSETFROM:-0400
TZOFFSETTO:-0500
END:STANDARD
BEGIN:DAYLIGHT
DTSTART:20260308T020000Z
TZOFFSETFROM:-0500
TZOFFSETTO:-0400
END:DAYLIGHT
END:VTIMEZONE
BEGIN:VTIMEZONE
TZID:UTC
BEGIN:STANDARD
DTSTART:20250724T041214Z
TZOFFSETFROM:+0000
TZOFFSETTO:+0000
END:STANDARD
END:VTIMEZONE
BEGIN:VEVENT
UID:73-62
DTSTAMP:20260420T041214Z
SUMMARY:Sunday - October 26th - 5:00 PM - Hobby night\, Fellowship and food
  at the church
LOCATION:Marsh Creek BIC Church 417 Summit Hill Road  Howard Pennsylvania 1
 6841
ORGANIZER;CN=admin:MAILTO:marshcreekbic@centurylink.net
DTSTART;TZID=America/New_York:20251026T170000
DTEND;TZID=America/New_York:20251102T183000
X-ALT-DESC;FMTTYPE=TEXT/HTML:
CATEGORIES:General
URL;VALUE=URI:https://www.marshcreekbicchurch.com/mc-events/sunday-october-
 26th-500-pm-hobby-night-fellowship-and-food-at-the-church/
METHOD:PUBLISH
END:VEVENT
END:VCALENDAR