BEGIN:VCALENDAR
VERSION:2.0
PRODID:spatie/icalendar-generator
DESCRIPTION:Events from MarshCreekBICChurch.com
X-WR-CALDESC:Events from MarshCreekBICChurch.com
REFRESH-INTERVAL;VALUE=DURATION:PT1440M
X-PUBLISHED-TTL:PT1440M
BEGIN:VTIMEZONE
TZID:America/New_York
BEGIN:DAYLIGHT
DTSTART:20250309T020000Z
TZOFFSETFROM:-0500
TZOFFSETTO:-0400
END:DAYLIGHT
BEGIN:STANDARD
DTSTART:20251102T020000Z
TZOFFSETFROM:-0400
TZOFFSETTO:-0500
END:STANDARD
BEGIN:DAYLIGHT
DTSTART:20260308T020000Z
TZOFFSETFROM:-0500
TZOFFSETTO:-0400
END:DAYLIGHT
END:VTIMEZONE
BEGIN:VTIMEZONE
TZID:UTC
BEGIN:STANDARD
DTSTART:20250724T024759Z
TZOFFSETFROM:+0000
TZOFFSETTO:+0000
END:STANDARD
END:VTIMEZONE
BEGIN:VEVENT
UID:71-60
DTSTAMP:20260420T024759Z
SUMMARY:October 18th - Benefit for Coy Shade at Beech Creek Fire Hall
LOCATION:BEECH CREEK FIRE HALL
ORGANIZER;CN=admin:MAILTO:marshcreekbic@centurylink.net
DTSTART;TZID=America/New_York:20251018T180000
DTEND;TZID=America/New_York:20251018T190000
X-ALT-DESC;FMTTYPE=TEXT/HTML:
CATEGORIES:General
URL;VALUE=URI:https://www.marshcreekbicchurch.com/mc-events/october-18th-be
 nefit-for-coy-shade-at-beech-creek-fire-hall/
METHOD:PUBLISH
END:VEVENT
END:VCALENDAR