BEGIN:VCALENDAR
VERSION:2.0
PRODID:spatie/icalendar-generator
DESCRIPTION:Events from MarshCreekBICChurch.com
X-WR-CALDESC:Events from MarshCreekBICChurch.com
REFRESH-INTERVAL;VALUE=DURATION:PT1440M
X-PUBLISHED-TTL:PT1440M
BEGIN:VTIMEZONE
TZID:America/New_York
BEGIN:STANDARD
DTSTART:20251102T020000Z
TZOFFSETFROM:-0400
TZOFFSETTO:-0500
END:STANDARD
BEGIN:DAYLIGHT
DTSTART:20260308T020000Z
TZOFFSETFROM:-0500
TZOFFSETTO:-0400
END:DAYLIGHT
END:VTIMEZONE
BEGIN:VTIMEZONE
TZID:UTC
BEGIN:STANDARD
DTSTART:20250723T194555Z
TZOFFSETFROM:+0000
TZOFFSETTO:+0000
END:STANDARD
END:VTIMEZONE
BEGIN:VEVENT
UID:126-105
DTSTAMP:20260419T194555Z
SUMMARY:April 3\, 2026 - Good Friday Service: 11:30 AM Foot washing\, lunch
  at 12:15\, and 1:00 PM Communion service.
LOCATION:Marsh Creek BIC Church 417 Summit Hill Road  Howard Pennsylvania 1
 6841
ORGANIZER;CN=admin:MAILTO:marshcreekbic@centurylink.net
DTSTART;TZID=America/New_York:20260403T113000
DTEND;TZID=America/New_York:20260403T133000
X-ALT-DESC;FMTTYPE=TEXT/HTML:
CATEGORIES:General
URL;VALUE=URI:https://www.marshcreekbicchurch.com/mc-events/april-3-2026-go
 od-friday-service-1130-am-foot-washing-lunch-at-1215-and-100-pm-communion-
 service/
METHOD:PUBLISH
END:VEVENT
END:VCALENDAR